BEGIN:VCALENDAR
VERSION:2.0
PRODID:-//DEV Rotary DEV - ECPv6.15.20//NONSGML v1.0//EN
CALSCALE:GREGORIAN
METHOD:PUBLISH
X-WR-CALNAME:DEV Rotary DEV
X-ORIGINAL-URL:https://dev.rotarypattaya.com
X-WR-CALDESC:Events for DEV Rotary DEV
REFRESH-INTERVAL;VALUE=DURATION:PT1H
X-Robots-Tag:noindex
X-PUBLISHED-TTL:PT1H
BEGIN:VTIMEZONE
TZID:UTC
BEGIN:STANDARD
TZOFFSETFROM:+0000
TZOFFSETTO:+0000
TZNAME:UTC
DTSTART:20250101T000000
END:STANDARD
END:VTIMEZONE
BEGIN:VTIMEZONE
TZID:Asia/Bangkok
BEGIN:STANDARD
TZOFFSETFROM:+0700
TZOFFSETTO:+0700
TZNAME:+07
DTSTART:20250101T000000
END:STANDARD
END:VTIMEZONE
BEGIN:VEVENT
DTSTART;TZID=UTC:20260614T110000
DTEND;TZID=UTC:20260614T170000
DTSTAMP:20260422T015619
CREATED:20260401T095241Z
LAST-MODIFIED:20260401T100027Z
UID:6617-1781434800-1781456400@dev.rotarypattaya.com
SUMMARY:Rotary Charity Bowling Sunday 14th June 2026
DESCRIPTION:  \nJoin us for a fun and exciting event\,\nall while supporting a great cause!\n  \nEvent Details:\n📅 Date: Sunday\, 14th June 2026\n⏰ Time: 11:00 AM\n📍 Location: SF Strike Bowl\, Central Festival Pattaya Beach\, Floor 6 \nEntry Fee: THB 3\,000 per team (Team of 3)\nIncludes: Bowling shoes and a lot of fun :o) \n💛 GREAT FUN & Supporting Charity! \nHow to Register:\n📞 Call 089 911 1199 or email info@pattayapeople.com \nPayment Information:\nBank: Krungsri\nAccount Number: 174-177-6925\nAccount Name: Rotary Club of Pattaya \n\n \n \nHelp us make this event a success!\nSign up your team today and make a difference.
URL:https://dev.rotarypattaya.com/event/rotary-charity-bowling-14th-june-2026/
LOCATION:SF Strike Bowl\, Central Festival Pattaya Beach\, Floor 6\, Pattaya\, 20150\, Thailand
CATEGORIES:Events
ATTACH;FMTTYPE=image/jpeg:https://dev.rotarypattaya.com/wp-content/uploads/2026/04/WhatsApp-Image-2026-04-01-at-16.51.07.jpeg
END:VEVENT
BEGIN:VEVENT
DTSTART;TZID=Asia/Bangkok:20261118T083000
DTEND;TZID=Asia/Bangkok:20261122T130000
DTSTAMP:20260422T015619
CREATED:20251222T101426Z
LAST-MODIFIED:20260225T132419Z
UID:6179-1794990600-1795352400@dev.rotarypattaya.com
SUMMARY:2026 Pattaya Rotary Institute
DESCRIPTION:Welcome to Pattaya\, Thailand\, host city of the Rotary Institute Zone 1B\, Zones 9 and 10\, taking place from 18 to 22 November 2026.\n		https://youtu.be/AoVHahzK8sk \nThe event will be held at the prestigious Royal Cliff Beach Resort\, at the PEACH Exhibition Hall\, offering high quality four to five star accommodation and world class conference facilities. \nPattaya is one of Thailand’s most renowned international beach destinations\, located on the Eastern Seaboard\, known for its excellent infrastructure\, hospitality\, and vibrant cultural experiences. \nRotary International Zone 1B\, Zones 9 and 10\, comprises 34 Districts and Non Districts across 17 countries and geographic areas\, including Thailand\, Myanmar\, Laos\, Cambodia\, Vietnam\, Malaysia\, Singapore\, Brunei\, Taiwan\, Philippines\, China\, Hong Kong\, Macao\, Mongolia\, Pakistan\, Bangladesh\, and Indonesia. \nParticipating districts include 3271\, 3300\, 3310\, 3330\, 3340\, 3350\, 3360\, 3410\, 3420\, 3450\, 3461\, 3462\, 3470\, 3481\, 3482\, 3490\, 3501\, 3502\, 3510\, 3521\, 3522\, 3523\, 3770\, 3780\, 3790\, 3800\, 3810\, 3820\, 3830\, 3850\, 3860\, 3870\, 63\, 64\, and 65. \nThe Institute program is designed to develop and strengthen Rotary leadership and will include training for District Governors Elect\, District Governor Nominees\, District Rotary Foundation Chairs\, and District Facilitators. The program also features recognition of Rotary Foundation donors\, plenary sessions\, and breakout sessions with motivational messages and strategic updates from Rotary International Presidents and Directors. \nThis Rotary Institute promises an inspiring combination of leadership development\, networking\, and global Rotary fellowship in one of Asia’s most dynamic destinations. \nJoin us for the 2026 Zones 1B \, 9 & 10 Rotary Institute\nIn the vibrant coastal city of Pattaya\, a celebration of Rotary leadership\, service\, and fellowship in the Gulf of Thailand \nRegister Now →
URL:https://dev.rotarypattaya.com/event/2026-pattaya-rotary-institute/
LOCATION:Pattaya Exhibition and Convention Hall (PEACH)\, 353 หมู่ที่ 12 Phra Tamnak\, Pattaya\, Chon Buri\, 20150\, Thailand
CATEGORIES:Events
ATTACH;FMTTYPE=image/jpeg:https://dev.rotarypattaya.com/wp-content/uploads/2025/12/2026-Rotary-Institute.jpg
ORGANIZER;CN="Rotary Institute":MAILTO:contact@2026pattayarotaryinstitute.org
END:VEVENT
BEGIN:VEVENT
DTSTART;TZID=Asia/Bangkok:20261123T080000
DTEND;TZID=Asia/Bangkok:20261123T220000
DTSTAMP:20260422T015619
CREATED:20251222T103230Z
LAST-MODIFIED:20260225T130240Z
UID:6200-1795420800-1795471200@dev.rotarypattaya.com
SUMMARY:PATTAYA INTERNATIONAL PEACE CONFERENCE 2026
DESCRIPTION:On Monday 23. November 2026 the Rotary Club of Pattaya will organise a mega event\, the PATTAYA INTERNATIONAL PEACE CONFERENCE\, at the state of the art convention center\, PEACH (Pattaya Exhibition and Convention Hall) at the five star Royal Cliff Beach Resort. \nThe city of Pattaya is best known for its “colorful” tourist entertainment scene\, founded as an R&R destination of the American GIs during the Vietnam war. \nHowever the more significant truth about the place is related to peace and coexistence. In an area of 42 square kilometers the inhabitants consist of Thai people from every province of the Kingdom but moreover of foreign residents from every corner of the earth. \nContrary to the rest of the world\, where conflict\, war and hostilities is the order of the day\, being religious\, political\, national\, ethnic and so on\, here in Pattaya everyone accept and respect each other’s differences and live together in peace and harmony. The city should be an example to the rest of the planet of peace and coexistence. \nMake sure to book the date\, Monday 23. November 2026 it will be spectacular event you don’t want to miss \n																														 \nTwenty years ago\, 23. February 2006\, the Rotary Club of Pattaya in cooperation with the public administration of Pattaya had the city recognized by Rotary International as the first “Peace City” of Thailand\, and a beautiful black granite monument was erected on what is called the Buddha Hill of the town. \nEvery year projects and activities is organized to focus especially the young generation of the importance of PEACE\, in the mind\, in the family\, in the community and in the world.
URL:https://dev.rotarypattaya.com/event/pattaya-international-peace-conference-2026/
LOCATION:Pattaya Exhibition and Convention Hall (PEACH)\, 353 หมู่ที่ 12 Phra Tamnak\, Pattaya\, Chon Buri\, 20150\, Thailand
CATEGORIES:Events
ATTACH;FMTTYPE=image/png:https://dev.rotarypattaya.com/wp-content/uploads/2025/12/PATTAYA-INTERNATIONAL-PEACE-CONFERENCE-2026.png
END:VEVENT
END:VCALENDAR